BEGIN:VCALENDAR
VERSION:2.0
PRODID:-//Southwest Florida Hispanic Chamber Of Commerce - ECPv6.15.14//NONSGML v1.0//EN
CALSCALE:GREGORIAN
METHOD:PUBLISH
X-ORIGINAL-URL:https://hispanicchamberflorida.org
X-WR-CALDESC:Events for Southwest Florida Hispanic Chamber Of Commerce
REFRESH-INTERVAL;VALUE=DURATION:PT1H
X-Robots-Tag:noindex
X-PUBLISHED-TTL:PT1H
BEGIN:VTIMEZONE
TZID:UTC
BEGIN:STANDARD
TZOFFSETFROM:+0000
TZOFFSETTO:+0000
TZNAME:UTC
DTSTART:20240101T000000
END:STANDARD
END:VTIMEZONE
BEGIN:VEVENT
DTSTART;TZID=UTC:20250423T110000
DTEND;TZID=UTC:20250423T130000
DTSTAMP:20260422T093728
CREATED:20250110T215436Z
LAST-MODIFIED:20250421T224526Z
UID:2630-1745406000-1745413200@hispanicchamberflorida.org
SUMMARY:Naples Business Almuerzo de Poder "Power Lunch"
DESCRIPTION:
URL:https://hispanicchamberflorida.org/event/naples-business-almuerzo-de-poder-power-lunch-2025-04-23/
LOCATION:Legends Sports Bar and Grill\, 8955 Tamiami Trail N\, Naples\, FL\, 34108\, United States
END:VEVENT
END:VCALENDAR