BEGIN:VCALENDAR
VERSION:2.0
PRODID:-//Southwest Florida Hispanic Chamber Of Commerce - ECPv6.15.14//NONSGML v1.0//EN
CALSCALE:GREGORIAN
METHOD:PUBLISH
X-ORIGINAL-URL:https://hispanicchamberflorida.org
X-WR-CALDESC:Events for Southwest Florida Hispanic Chamber Of Commerce
REFRESH-INTERVAL;VALUE=DURATION:PT1H
X-Robots-Tag:noindex
X-PUBLISHED-TTL:PT1H
BEGIN:VTIMEZONE
TZID:UTC
BEGIN:STANDARD
TZOFFSETFROM:+0000
TZOFFSETTO:+0000
TZNAME:UTC
DTSTART:20240101T000000
END:STANDARD
END:VTIMEZONE
BEGIN:VEVENT
DTSTART;TZID=UTC:20250508T180000
DTEND;TZID=UTC:20250508T210000
DTSTAMP:20260422T080944
CREATED:20250421T225215Z
LAST-MODIFIED:20250421T225215Z
UID:2811-1746727200-1746738000@hispanicchamberflorida.org
SUMMARY:Cinco De Mayo Celebration!
DESCRIPTION:
URL:https://hispanicchamberflorida.org/event/cinco-de-mayo-celebration/
LOCATION:FL
END:VEVENT
END:VCALENDAR