BEGIN:VCALENDAR
VERSION:2.0
PRODID:-//Southwest Florida Hispanic Chamber Of Commerce - ECPv6.15.14//NONSGML v1.0//EN
CALSCALE:GREGORIAN
METHOD:PUBLISH
X-ORIGINAL-URL:https://hispanicchamberflorida.org
X-WR-CALDESC:Events for Southwest Florida Hispanic Chamber Of Commerce
REFRESH-INTERVAL;VALUE=DURATION:PT1H
X-Robots-Tag:noindex
X-PUBLISHED-TTL:PT1H
BEGIN:VTIMEZONE
TZID:UTC
BEGIN:STANDARD
TZOFFSETFROM:+0000
TZOFFSETTO:+0000
TZNAME:UTC
DTSTART:20250101T000000
END:STANDARD
END:VTIMEZONE
BEGIN:VEVENT
DTSTART;TZID=UTC:20260124T180000
DTEND;TZID=UTC:20260124T210000
DTSTAMP:20260422T015458
CREATED:20251013T225009Z
LAST-MODIFIED:20251013T225009Z
UID:2985-1769277600-1769288400@hispanicchamberflorida.org
SUMMARY:Noche De Invierno Encantada- Enchanting Winter Evening Gala 2026
DESCRIPTION:  \nJoin us for Noche De Invierno Encantada—an Enchanting Winter Evening where elegance meets purpose. Under the elegant blue and silver ambiance with white  lights—from the first signature cocktail to the last dance—we’ll celebrate our culture and fuel the mission of the SWFL Hispanic Chamber at the Collaboratory in Fort Myers. \nYour evening includes a welcoming cocktail hour with signature cocktails and delicious appetizers\, a seated dinner\, and decadent desserts\, followed by awards\, live entertainment\, and dancing. We’ll also feature a silent and live auction and a 50/50 drawing\, with proceeds benefiting the Chamber’s Community Outreach and Programs. \nEvening Highlights: \n\nElegant silver and blue ambiance with white lights\n\n\nHispanic cultural flair in cuisine\, music\, and program\nCocktail hour\, dinner\, and desserts\nSilent and live auction plus a 50/50 drawing\nAwards\, entertainment\, and dancing\nSponsor recognition and community impact\n\nAttire: Formal / Evening (Black-tie optional) \nIndividual Tickets \n\nEarly Bird General Admission — $100 (through Oct 31\, 2025)\nIncludes cocktail hour\, dinner\, program\, and dancing. Seating at open tables.\nEarly Bird VIP — $125 (through Oct 31\, 2025)\nIncludes exclusive VIP cocktail reception and preferred seating.\nGeneral Admission — $125 (Nov 1\, 2025 – Jan 10\, 2026)\nIncludes full program as above.\nVIP — $150 (Nov 1\, 2025 – Jan 10\, 2026)\nVIP reception + preferred seating.\nFinal Sales General Admission — $150 (Jan 11 – Jan 23\, 2026)\nLast‑chance pricing leading up to event.\nFinal Sales VIP — $175 (Jan 11 – Jan 23\, 2026)\nVIP reception + preferred seating.\nTable Sponsor (10 seats) — $1\,250\nReserved table of 10 with table signage (great for companies & groups). Does not include VIP reception access.\n\nSponsorship Packages \nFor questions or to pay by invoice: hispanichamberflorida@gmail.com \n\nPresenting Title Sponsor — $10\,000 (1\, exclusive)\nReserved VIP table (8)\, 8 VIP cocktail reception tickets\, 5‑minute speaking remarks\, banner at entrance\, verbal recognition during program\, recognition in press release and on social media.\nDiamond Sponsor — $7\,500 (2)\nReserved VIP table (6)\, 6 VIP cocktail reception tickets\, 3‑minute speaking remarks\, banner at entrance\, verbal recognition\, recognition in press release and on social media.\nPlatinum Sponsor — $5\,000\nReserved seating for 4\, 4 VIP cocktail reception tickets\, verbal recognition during program\, recognition in press release and on social media.\nGold Sponsor — $3\,500\nReserved seating for 2\, 2 VIP cocktail reception tickets\, verbal recognition during program\, recognition in press release and on social media.\nSilver Sponsor — $2\,500\nReserved VIP table seating for 8\, 8 VIP cocktail reception tickets\, logo recognition on table\, recognition on social media.\nBronze Sponsor — $1\,500\nReserved seating for 2\, 2 VIP cocktail reception tickets\, logo recognition on table\, recognition on social media.
URL:https://hispanicchamberflorida.org/event/noche-de-invierno-encantada-enchanting-winter-evening-gala-2026/
LOCATION:The Collaboratory\, 2031 Jackson Street\, Fort Myers\, FL\, 33901\, United States
ORGANIZER;CN="SWFL Hispanic Chamber of Commerce":MAILTO:hispanicchamberflorida@gmail.com
END:VEVENT
BEGIN:VEVENT
DTSTART;TZID=UTC:20260318T113000
DTEND;TZID=UTC:20260318T113000
DTSTAMP:20260422T015458
CREATED:20250110T213935Z
LAST-MODIFIED:20260310T230046Z
UID:2655-1773833400-1773833400@hispanicchamberflorida.org
SUMMARY:Fort Myers Business Almuerzo de Poder "Power Lunch"
DESCRIPTION:[vc_row][vc_column]\n[/vc_column][/vc_row]
URL:https://hispanicchamberflorida.org/event/fort-myers-business-lunch-and-learn-2025-06-18/2026-03-18/
LOCATION:Monarcas Authentic Mexican Restaurant\, 4125 Cleveland Ave\, Fort Myers\, 33901\, United States
END:VEVENT
BEGIN:VEVENT
DTSTART;TZID=UTC:20260325T113000
DTEND;TZID=UTC:20260325T113000
DTSTAMP:20260422T015458
CREATED:20250110T215436Z
LAST-MODIFIED:20260311T004616Z
UID:2623-1774438200-1774438200@hispanicchamberflorida.org
SUMMARY:Naples Business Almuerzo de Poder "Power Lunch"
DESCRIPTION:[vc_row][vc_column]\n[/vc_column][/vc_row]
URL:https://hispanicchamberflorida.org/event/naples-business-almuerzo-de-poder-power-lunch/2026-03-25/
LOCATION:Legends Sports Bar and Grill\, 8955 Tamiami Trail N\, Naples\, FL\, 34108\, United States
ORGANIZER;CN="SWFL Hispanic Chamber of Commerce":MAILTO:hispanicchamberflorida@gmail.com
END:VEVENT
BEGIN:VEVENT
DTSTART;TZID=UTC:20260415T113000
DTEND;TZID=UTC:20260415T113000
DTSTAMP:20260422T015458
CREATED:20250110T213935Z
LAST-MODIFIED:20260310T230046Z
UID:3140-1776252600-1776252600@hispanicchamberflorida.org
SUMMARY:Fort Myers Business Almuerzo de Poder "Power Lunch"
DESCRIPTION:[vc_row][vc_column]\n[/vc_column][/vc_row]
URL:https://hispanicchamberflorida.org/event/fort-myers-business-lunch-and-learn-2025-06-18/2026-04-15/
LOCATION:Monarcas Authentic Mexican Restaurant\, 4125 Cleveland Ave\, Fort Myers\, 33901\, United States
END:VEVENT
BEGIN:VEVENT
DTSTART;TZID=UTC:20260422T113000
DTEND;TZID=UTC:20260422T113000
DTSTAMP:20260422T015458
CREATED:20250110T215436Z
LAST-MODIFIED:20260311T004616Z
UID:3073-1776857400-1776857400@hispanicchamberflorida.org
SUMMARY:Naples Business Almuerzo de Poder "Power Lunch"
DESCRIPTION:[vc_row][vc_column]\n[/vc_column][/vc_row]
URL:https://hispanicchamberflorida.org/event/naples-business-almuerzo-de-poder-power-lunch/2026-04-22/
LOCATION:Legends Sports Bar and Grill\, 8955 Tamiami Trail N\, Naples\, FL\, 34108\, United States
ORGANIZER;CN="SWFL Hispanic Chamber of Commerce":MAILTO:hispanicchamberflorida@gmail.com
END:VEVENT
BEGIN:VEVENT
DTSTART;TZID=UTC:20260520T113000
DTEND;TZID=UTC:20260520T113000
DTSTAMP:20260422T015458
CREATED:20250110T213935Z
LAST-MODIFIED:20260310T230046Z
UID:3141-1779276600-1779276600@hispanicchamberflorida.org
SUMMARY:Fort Myers Business Almuerzo de Poder "Power Lunch"
DESCRIPTION:[vc_row][vc_column]\n[/vc_column][/vc_row]
URL:https://hispanicchamberflorida.org/event/fort-myers-business-lunch-and-learn-2025-06-18/2026-05-20/
LOCATION:Monarcas Authentic Mexican Restaurant\, 4125 Cleveland Ave\, Fort Myers\, 33901\, United States
END:VEVENT
BEGIN:VEVENT
DTSTART;TZID=UTC:20260527T113000
DTEND;TZID=UTC:20260527T113000
DTSTAMP:20260422T015458
CREATED:20250110T215436Z
LAST-MODIFIED:20260311T004616Z
UID:3074-1779881400-1779881400@hispanicchamberflorida.org
SUMMARY:Naples Business Almuerzo de Poder "Power Lunch"
DESCRIPTION:[vc_row][vc_column]\n[/vc_column][/vc_row]
URL:https://hispanicchamberflorida.org/event/naples-business-almuerzo-de-poder-power-lunch/2026-05-27/
LOCATION:Legends Sports Bar and Grill\, 8955 Tamiami Trail N\, Naples\, FL\, 34108\, United States
ORGANIZER;CN="SWFL Hispanic Chamber of Commerce":MAILTO:hispanicchamberflorida@gmail.com
END:VEVENT
BEGIN:VEVENT
DTSTART;TZID=UTC:20260617T113000
DTEND;TZID=UTC:20260617T113000
DTSTAMP:20260422T015458
CREATED:20250110T213935Z
LAST-MODIFIED:20260310T230047Z
UID:3142-1781695800-1781695800@hispanicchamberflorida.org
SUMMARY:Fort Myers Business Almuerzo de Poder "Power Lunch"
DESCRIPTION:[vc_row][vc_column]\n[/vc_column][/vc_row]
URL:https://hispanicchamberflorida.org/event/fort-myers-business-lunch-and-learn-2025-06-18/2026-06-17/
LOCATION:Monarcas Authentic Mexican Restaurant\, 4125 Cleveland Ave\, Fort Myers\, 33901\, United States
END:VEVENT
BEGIN:VEVENT
DTSTART;TZID=UTC:20260624T113000
DTEND;TZID=UTC:20260624T113000
DTSTAMP:20260422T015458
CREATED:20250110T215436Z
LAST-MODIFIED:20260311T004617Z
UID:3075-1782300600-1782300600@hispanicchamberflorida.org
SUMMARY:Naples Business Almuerzo de Poder "Power Lunch"
DESCRIPTION:[vc_row][vc_column]\n[/vc_column][/vc_row]
URL:https://hispanicchamberflorida.org/event/naples-business-almuerzo-de-poder-power-lunch/2026-06-24/
LOCATION:Legends Sports Bar and Grill\, 8955 Tamiami Trail N\, Naples\, FL\, 34108\, United States
ORGANIZER;CN="SWFL Hispanic Chamber of Commerce":MAILTO:hispanicchamberflorida@gmail.com
END:VEVENT
BEGIN:VEVENT
DTSTART;TZID=UTC:20260715T113000
DTEND;TZID=UTC:20260715T113000
DTSTAMP:20260422T015458
CREATED:20250110T213935Z
LAST-MODIFIED:20260310T230047Z
UID:3143-1784115000-1784115000@hispanicchamberflorida.org
SUMMARY:Fort Myers Business Almuerzo de Poder "Power Lunch"
DESCRIPTION:[vc_row][vc_column]\n[/vc_column][/vc_row]
URL:https://hispanicchamberflorida.org/event/fort-myers-business-lunch-and-learn-2025-06-18/2026-07-15/
LOCATION:Monarcas Authentic Mexican Restaurant\, 4125 Cleveland Ave\, Fort Myers\, 33901\, United States
END:VEVENT
BEGIN:VEVENT
DTSTART;TZID=UTC:20260722T113000
DTEND;TZID=UTC:20260722T113000
DTSTAMP:20260422T015458
CREATED:20250110T215436Z
LAST-MODIFIED:20260311T004617Z
UID:3076-1784719800-1784719800@hispanicchamberflorida.org
SUMMARY:Naples Business Almuerzo de Poder "Power Lunch"
DESCRIPTION:[vc_row][vc_column]\n[/vc_column][/vc_row]
URL:https://hispanicchamberflorida.org/event/naples-business-almuerzo-de-poder-power-lunch/2026-07-22/
LOCATION:Legends Sports Bar and Grill\, 8955 Tamiami Trail N\, Naples\, FL\, 34108\, United States
ORGANIZER;CN="SWFL Hispanic Chamber of Commerce":MAILTO:hispanicchamberflorida@gmail.com
END:VEVENT
BEGIN:VEVENT
DTSTART;TZID=UTC:20260819T113000
DTEND;TZID=UTC:20260819T113000
DTSTAMP:20260422T015458
CREATED:20250110T213935Z
LAST-MODIFIED:20260310T230047Z
UID:3144-1787139000-1787139000@hispanicchamberflorida.org
SUMMARY:Fort Myers Business Almuerzo de Poder "Power Lunch"
DESCRIPTION:[vc_row][vc_column]\n[/vc_column][/vc_row]
URL:https://hispanicchamberflorida.org/event/fort-myers-business-lunch-and-learn-2025-06-18/2026-08-19/
LOCATION:Monarcas Authentic Mexican Restaurant\, 4125 Cleveland Ave\, Fort Myers\, 33901\, United States
END:VEVENT
BEGIN:VEVENT
DTSTART;TZID=UTC:20260826T113000
DTEND;TZID=UTC:20260826T113000
DTSTAMP:20260422T015458
CREATED:20250110T215436Z
LAST-MODIFIED:20260311T004617Z
UID:3077-1787743800-1787743800@hispanicchamberflorida.org
SUMMARY:Naples Business Almuerzo de Poder "Power Lunch"
DESCRIPTION:[vc_row][vc_column]\n[/vc_column][/vc_row]
URL:https://hispanicchamberflorida.org/event/naples-business-almuerzo-de-poder-power-lunch/2026-08-26/
LOCATION:Legends Sports Bar and Grill\, 8955 Tamiami Trail N\, Naples\, FL\, 34108\, United States
ORGANIZER;CN="SWFL Hispanic Chamber of Commerce":MAILTO:hispanicchamberflorida@gmail.com
END:VEVENT
BEGIN:VEVENT
DTSTART;TZID=UTC:20260916T113000
DTEND;TZID=UTC:20260916T113000
DTSTAMP:20260422T015458
CREATED:20250110T213935Z
LAST-MODIFIED:20260310T230047Z
UID:3145-1789558200-1789558200@hispanicchamberflorida.org
SUMMARY:Fort Myers Business Almuerzo de Poder "Power Lunch"
DESCRIPTION:[vc_row][vc_column]\n[/vc_column][/vc_row]
URL:https://hispanicchamberflorida.org/event/fort-myers-business-lunch-and-learn-2025-06-18/2026-09-16/
LOCATION:Monarcas Authentic Mexican Restaurant\, 4125 Cleveland Ave\, Fort Myers\, 33901\, United States
END:VEVENT
BEGIN:VEVENT
DTSTART;TZID=UTC:20260923T113000
DTEND;TZID=UTC:20260923T113000
DTSTAMP:20260422T015458
CREATED:20250110T215436Z
LAST-MODIFIED:20260311T004618Z
UID:3078-1790163000-1790163000@hispanicchamberflorida.org
SUMMARY:Naples Business Almuerzo de Poder "Power Lunch"
DESCRIPTION:[vc_row][vc_column]\n[/vc_column][/vc_row]
URL:https://hispanicchamberflorida.org/event/naples-business-almuerzo-de-poder-power-lunch/2026-09-23/
LOCATION:Legends Sports Bar and Grill\, 8955 Tamiami Trail N\, Naples\, FL\, 34108\, United States
ORGANIZER;CN="SWFL Hispanic Chamber of Commerce":MAILTO:hispanicchamberflorida@gmail.com
END:VEVENT
BEGIN:VEVENT
DTSTART;TZID=UTC:20261021T113000
DTEND;TZID=UTC:20261021T113000
DTSTAMP:20260422T015458
CREATED:20250110T213935Z
LAST-MODIFIED:20260310T230048Z
UID:3146-1792582200-1792582200@hispanicchamberflorida.org
SUMMARY:Fort Myers Business Almuerzo de Poder "Power Lunch"
DESCRIPTION:[vc_row][vc_column]\n[/vc_column][/vc_row]
URL:https://hispanicchamberflorida.org/event/fort-myers-business-lunch-and-learn-2025-06-18/2026-10-21/
LOCATION:Monarcas Authentic Mexican Restaurant\, 4125 Cleveland Ave\, Fort Myers\, 33901\, United States
END:VEVENT
BEGIN:VEVENT
DTSTART;TZID=UTC:20261028T113000
DTEND;TZID=UTC:20261028T113000
DTSTAMP:20260422T015458
CREATED:20250110T215436Z
LAST-MODIFIED:20260311T004618Z
UID:3079-1793187000-1793187000@hispanicchamberflorida.org
SUMMARY:Naples Business Almuerzo de Poder "Power Lunch"
DESCRIPTION:[vc_row][vc_column]\n[/vc_column][/vc_row]
URL:https://hispanicchamberflorida.org/event/naples-business-almuerzo-de-poder-power-lunch/2026-10-28/
LOCATION:Legends Sports Bar and Grill\, 8955 Tamiami Trail N\, Naples\, FL\, 34108\, United States
ORGANIZER;CN="SWFL Hispanic Chamber of Commerce":MAILTO:hispanicchamberflorida@gmail.com
END:VEVENT
BEGIN:VEVENT
DTSTART;TZID=UTC:20261118T113000
DTEND;TZID=UTC:20261118T113000
DTSTAMP:20260422T015458
CREATED:20250110T213935Z
LAST-MODIFIED:20260310T230048Z
UID:3147-1795001400-1795001400@hispanicchamberflorida.org
SUMMARY:Fort Myers Business Almuerzo de Poder "Power Lunch"
DESCRIPTION:[vc_row][vc_column]\n[/vc_column][/vc_row]
URL:https://hispanicchamberflorida.org/event/fort-myers-business-lunch-and-learn-2025-06-18/2026-11-18/
LOCATION:Monarcas Authentic Mexican Restaurant\, 4125 Cleveland Ave\, Fort Myers\, 33901\, United States
END:VEVENT
BEGIN:VEVENT
DTSTART;TZID=UTC:20261125T113000
DTEND;TZID=UTC:20261125T113000
DTSTAMP:20260422T015458
CREATED:20250110T215436Z
LAST-MODIFIED:20260311T004618Z
UID:3080-1795606200-1795606200@hispanicchamberflorida.org
SUMMARY:Naples Business Almuerzo de Poder "Power Lunch"
DESCRIPTION:[vc_row][vc_column]\n[/vc_column][/vc_row]
URL:https://hispanicchamberflorida.org/event/naples-business-almuerzo-de-poder-power-lunch/2026-11-25/
LOCATION:Legends Sports Bar and Grill\, 8955 Tamiami Trail N\, Naples\, FL\, 34108\, United States
ORGANIZER;CN="SWFL Hispanic Chamber of Commerce":MAILTO:hispanicchamberflorida@gmail.com
END:VEVENT
BEGIN:VEVENT
DTSTART;TZID=UTC:20261216T113000
DTEND;TZID=UTC:20261216T113000
DTSTAMP:20260422T015458
CREATED:20250110T213935Z
LAST-MODIFIED:20260310T230048Z
UID:3148-1797420600-1797420600@hispanicchamberflorida.org
SUMMARY:Fort Myers Business Almuerzo de Poder "Power Lunch"
DESCRIPTION:[vc_row][vc_column]\n[/vc_column][/vc_row]
URL:https://hispanicchamberflorida.org/event/fort-myers-business-lunch-and-learn-2025-06-18/2026-12-16/
LOCATION:Monarcas Authentic Mexican Restaurant\, 4125 Cleveland Ave\, Fort Myers\, 33901\, United States
END:VEVENT
BEGIN:VEVENT
DTSTART;TZID=UTC:20261223T113000
DTEND;TZID=UTC:20261223T113000
DTSTAMP:20260422T015458
CREATED:20250110T215436Z
LAST-MODIFIED:20260311T004619Z
UID:3081-1798025400-1798025400@hispanicchamberflorida.org
SUMMARY:Naples Business Almuerzo de Poder "Power Lunch"
DESCRIPTION:[vc_row][vc_column]\n[/vc_column][/vc_row]
URL:https://hispanicchamberflorida.org/event/naples-business-almuerzo-de-poder-power-lunch/2026-12-23/
LOCATION:Legends Sports Bar and Grill\, 8955 Tamiami Trail N\, Naples\, FL\, 34108\, United States
ORGANIZER;CN="SWFL Hispanic Chamber of Commerce":MAILTO:hispanicchamberflorida@gmail.com
END:VEVENT
BEGIN:VEVENT
DTSTART;TZID=UTC:20270120T113000
DTEND;TZID=UTC:20270120T113000
DTSTAMP:20260422T015458
CREATED:20250110T213935Z
LAST-MODIFIED:20260310T230048Z
UID:3149-1800444600-1800444600@hispanicchamberflorida.org
SUMMARY:Fort Myers Business Almuerzo de Poder "Power Lunch"
DESCRIPTION:[vc_row][vc_column]\n[/vc_column][/vc_row]
URL:https://hispanicchamberflorida.org/event/fort-myers-business-lunch-and-learn-2025-06-18/2027-01-20/
LOCATION:Monarcas Authentic Mexican Restaurant\, 4125 Cleveland Ave\, Fort Myers\, 33901\, United States
END:VEVENT
BEGIN:VEVENT
DTSTART;TZID=UTC:20270127T113000
DTEND;TZID=UTC:20270127T113000
DTSTAMP:20260422T015458
CREATED:20250110T215436Z
LAST-MODIFIED:20260311T004623Z
UID:3082-1801049400-1801049400@hispanicchamberflorida.org
SUMMARY:Naples Business Almuerzo de Poder "Power Lunch"
DESCRIPTION:[vc_row][vc_column]\n[/vc_column][/vc_row]
URL:https://hispanicchamberflorida.org/event/naples-business-almuerzo-de-poder-power-lunch/2027-01-27/
LOCATION:Legends Sports Bar and Grill\, 8955 Tamiami Trail N\, Naples\, FL\, 34108\, United States
ORGANIZER;CN="SWFL Hispanic Chamber of Commerce":MAILTO:hispanicchamberflorida@gmail.com
END:VEVENT
BEGIN:VEVENT
DTSTART;TZID=UTC:20270217T113000
DTEND;TZID=UTC:20270217T113000
DTSTAMP:20260422T015458
CREATED:20250110T213935Z
LAST-MODIFIED:20260310T230052Z
UID:3150-1802863800-1802863800@hispanicchamberflorida.org
SUMMARY:Fort Myers Business Almuerzo de Poder "Power Lunch"
DESCRIPTION:[vc_row][vc_column]\n[/vc_column][/vc_row]
URL:https://hispanicchamberflorida.org/event/fort-myers-business-lunch-and-learn-2025-06-18/2027-02-17/
LOCATION:Monarcas Authentic Mexican Restaurant\, 4125 Cleveland Ave\, Fort Myers\, 33901\, United States
END:VEVENT
BEGIN:VEVENT
DTSTART;TZID=UTC:20270224T113000
DTEND;TZID=UTC:20270224T113000
DTSTAMP:20260422T015458
CREATED:20250110T215436Z
LAST-MODIFIED:20260311T004623Z
UID:3083-1803468600-1803468600@hispanicchamberflorida.org
SUMMARY:Naples Business Almuerzo de Poder "Power Lunch"
DESCRIPTION:[vc_row][vc_column]\n[/vc_column][/vc_row]
URL:https://hispanicchamberflorida.org/event/naples-business-almuerzo-de-poder-power-lunch/2027-02-24/
LOCATION:Legends Sports Bar and Grill\, 8955 Tamiami Trail N\, Naples\, FL\, 34108\, United States
ORGANIZER;CN="SWFL Hispanic Chamber of Commerce":MAILTO:hispanicchamberflorida@gmail.com
END:VEVENT
BEGIN:VEVENT
DTSTART;TZID=UTC:20270317T113000
DTEND;TZID=UTC:20270317T113000
DTSTAMP:20260422T015458
CREATED:20250110T213935Z
LAST-MODIFIED:20260310T230052Z
UID:3151-1805283000-1805283000@hispanicchamberflorida.org
SUMMARY:Fort Myers Business Almuerzo de Poder "Power Lunch"
DESCRIPTION:[vc_row][vc_column]\n[/vc_column][/vc_row]
URL:https://hispanicchamberflorida.org/event/fort-myers-business-lunch-and-learn-2025-06-18/2027-03-17/
LOCATION:Monarcas Authentic Mexican Restaurant\, 4125 Cleveland Ave\, Fort Myers\, 33901\, United States
END:VEVENT
BEGIN:VEVENT
DTSTART;TZID=UTC:20270324T113000
DTEND;TZID=UTC:20270324T113000
DTSTAMP:20260422T015458
CREATED:20250110T215436Z
LAST-MODIFIED:20260311T004623Z
UID:3084-1805887800-1805887800@hispanicchamberflorida.org
SUMMARY:Naples Business Almuerzo de Poder "Power Lunch"
DESCRIPTION:[vc_row][vc_column]\n[/vc_column][/vc_row]
URL:https://hispanicchamberflorida.org/event/naples-business-almuerzo-de-poder-power-lunch/2027-03-24/
LOCATION:Legends Sports Bar and Grill\, 8955 Tamiami Trail N\, Naples\, FL\, 34108\, United States
ORGANIZER;CN="SWFL Hispanic Chamber of Commerce":MAILTO:hispanicchamberflorida@gmail.com
END:VEVENT
BEGIN:VEVENT
DTSTART;TZID=UTC:20270421T113000
DTEND;TZID=UTC:20270421T113000
DTSTAMP:20260422T015458
CREATED:20250110T213935Z
LAST-MODIFIED:20260310T230053Z
UID:3152-1808307000-1808307000@hispanicchamberflorida.org
SUMMARY:Fort Myers Business Almuerzo de Poder "Power Lunch"
DESCRIPTION:[vc_row][vc_column]\n[/vc_column][/vc_row]
URL:https://hispanicchamberflorida.org/event/fort-myers-business-lunch-and-learn-2025-06-18/2027-04-21/
LOCATION:Monarcas Authentic Mexican Restaurant\, 4125 Cleveland Ave\, Fort Myers\, 33901\, United States
END:VEVENT
BEGIN:VEVENT
DTSTART;TZID=UTC:20270428T113000
DTEND;TZID=UTC:20270428T113000
DTSTAMP:20260422T015458
CREATED:20250110T215436Z
LAST-MODIFIED:20260311T004624Z
UID:3085-1808911800-1808911800@hispanicchamberflorida.org
SUMMARY:Naples Business Almuerzo de Poder "Power Lunch"
DESCRIPTION:[vc_row][vc_column]\n[/vc_column][/vc_row]
URL:https://hispanicchamberflorida.org/event/naples-business-almuerzo-de-poder-power-lunch/2027-04-28/
LOCATION:Legends Sports Bar and Grill\, 8955 Tamiami Trail N\, Naples\, FL\, 34108\, United States
ORGANIZER;CN="SWFL Hispanic Chamber of Commerce":MAILTO:hispanicchamberflorida@gmail.com
END:VEVENT
BEGIN:VEVENT
DTSTART;TZID=UTC:20270519T113000
DTEND;TZID=UTC:20270519T113000
DTSTAMP:20260422T015459
CREATED:20250110T213935Z
LAST-MODIFIED:20260310T230053Z
UID:3153-1810726200-1810726200@hispanicchamberflorida.org
SUMMARY:Fort Myers Business Almuerzo de Poder "Power Lunch"
DESCRIPTION:[vc_row][vc_column]\n[/vc_column][/vc_row]
URL:https://hispanicchamberflorida.org/event/fort-myers-business-lunch-and-learn-2025-06-18/2027-05-19/
LOCATION:Monarcas Authentic Mexican Restaurant\, 4125 Cleveland Ave\, Fort Myers\, 33901\, United States
END:VEVENT
END:VCALENDAR