BEGIN:VCALENDAR
VERSION:2.0
PRODID:-//Southwest Florida Hispanic Chamber Of Commerce - ECPv6.15.14//NONSGML v1.0//EN
CALSCALE:GREGORIAN
METHOD:PUBLISH
X-ORIGINAL-URL:https://hispanicchamberflorida.org
X-WR-CALDESC:Events for Southwest Florida Hispanic Chamber Of Commerce
REFRESH-INTERVAL;VALUE=DURATION:PT1H
X-Robots-Tag:noindex
X-PUBLISHED-TTL:PT1H
BEGIN:VTIMEZONE
TZID:UTC
BEGIN:STANDARD
TZOFFSETFROM:+0000
TZOFFSETTO:+0000
TZNAME:UTC
DTSTART:20260101T000000
END:STANDARD
END:VTIMEZONE
BEGIN:VEVENT
DTSTART;TZID=UTC:20270721T113000
DTEND;TZID=UTC:20270721T113000
DTSTAMP:20260422T222831
CREATED:20250110T213935Z
LAST-MODIFIED:20260310T230053Z
UID:3155-1816169400-1816169400@hispanicchamberflorida.org
SUMMARY:Fort Myers Business Almuerzo de Poder "Power Lunch"
DESCRIPTION:[vc_row][vc_column]\n[/vc_column][/vc_row]
URL:https://hispanicchamberflorida.org/event/fort-myers-business-lunch-and-learn-2025-06-18/2027-07-21/
LOCATION:Monarcas Authentic Mexican Restaurant\, 4125 Cleveland Ave\, Fort Myers\, 33901\, United States
END:VEVENT
BEGIN:VEVENT
DTSTART;TZID=UTC:20270728T113000
DTEND;TZID=UTC:20270728T113000
DTSTAMP:20260422T222831
CREATED:20250110T215436Z
LAST-MODIFIED:20260311T004625Z
UID:3088-1816774200-1816774200@hispanicchamberflorida.org
SUMMARY:Naples Business Almuerzo de Poder "Power Lunch"
DESCRIPTION:[vc_row][vc_column]\n[/vc_column][/vc_row]
URL:https://hispanicchamberflorida.org/event/naples-business-almuerzo-de-poder-power-lunch/2027-07-28/
LOCATION:Legends Sports Bar and Grill\, 8955 Tamiami Trail N\, Naples\, FL\, 34108\, United States
ORGANIZER;CN="SWFL Hispanic Chamber of Commerce":MAILTO:hispanicchamberflorida@gmail.com
END:VEVENT
BEGIN:VEVENT
DTSTART;TZID=UTC:20270818T113000
DTEND;TZID=UTC:20270818T113000
DTSTAMP:20260422T222831
CREATED:20250110T213935Z
LAST-MODIFIED:20260310T230053Z
UID:3156-1818588600-1818588600@hispanicchamberflorida.org
SUMMARY:Fort Myers Business Almuerzo de Poder "Power Lunch"
DESCRIPTION:[vc_row][vc_column]\n[/vc_column][/vc_row]
URL:https://hispanicchamberflorida.org/event/fort-myers-business-lunch-and-learn-2025-06-18/2027-08-18/
LOCATION:Monarcas Authentic Mexican Restaurant\, 4125 Cleveland Ave\, Fort Myers\, 33901\, United States
END:VEVENT
BEGIN:VEVENT
DTSTART;TZID=UTC:20270825T113000
DTEND;TZID=UTC:20270825T113000
DTSTAMP:20260422T222831
CREATED:20250110T215436Z
LAST-MODIFIED:20260311T004625Z
UID:3089-1819193400-1819193400@hispanicchamberflorida.org
SUMMARY:Naples Business Almuerzo de Poder "Power Lunch"
DESCRIPTION:[vc_row][vc_column]\n[/vc_column][/vc_row]
URL:https://hispanicchamberflorida.org/event/naples-business-almuerzo-de-poder-power-lunch/2027-08-25/
LOCATION:Legends Sports Bar and Grill\, 8955 Tamiami Trail N\, Naples\, FL\, 34108\, United States
ORGANIZER;CN="SWFL Hispanic Chamber of Commerce":MAILTO:hispanicchamberflorida@gmail.com
END:VEVENT
BEGIN:VEVENT
DTSTART;TZID=UTC:20270915T113000
DTEND;TZID=UTC:20270915T113000
DTSTAMP:20260422T222831
CREATED:20250110T213935Z
LAST-MODIFIED:20260310T230054Z
UID:3157-1821007800-1821007800@hispanicchamberflorida.org
SUMMARY:Fort Myers Business Almuerzo de Poder "Power Lunch"
DESCRIPTION:[vc_row][vc_column]\n[/vc_column][/vc_row]
URL:https://hispanicchamberflorida.org/event/fort-myers-business-lunch-and-learn-2025-06-18/2027-09-15/
LOCATION:Monarcas Authentic Mexican Restaurant\, 4125 Cleveland Ave\, Fort Myers\, 33901\, United States
END:VEVENT
BEGIN:VEVENT
DTSTART;TZID=UTC:20270922T113000
DTEND;TZID=UTC:20270922T113000
DTSTAMP:20260422T222831
CREATED:20250110T215436Z
LAST-MODIFIED:20260311T004625Z
UID:3090-1821612600-1821612600@hispanicchamberflorida.org
SUMMARY:Naples Business Almuerzo de Poder "Power Lunch"
DESCRIPTION:[vc_row][vc_column]\n[/vc_column][/vc_row]
URL:https://hispanicchamberflorida.org/event/naples-business-almuerzo-de-poder-power-lunch/2027-09-22/
LOCATION:Legends Sports Bar and Grill\, 8955 Tamiami Trail N\, Naples\, FL\, 34108\, United States
ORGANIZER;CN="SWFL Hispanic Chamber of Commerce":MAILTO:hispanicchamberflorida@gmail.com
END:VEVENT
BEGIN:VEVENT
DTSTART;TZID=UTC:20271020T113000
DTEND;TZID=UTC:20271020T113000
DTSTAMP:20260422T222831
CREATED:20250110T213935Z
LAST-MODIFIED:20260310T230054Z
UID:3158-1824031800-1824031800@hispanicchamberflorida.org
SUMMARY:Fort Myers Business Almuerzo de Poder "Power Lunch"
DESCRIPTION:[vc_row][vc_column]\n[/vc_column][/vc_row]
URL:https://hispanicchamberflorida.org/event/fort-myers-business-lunch-and-learn-2025-06-18/2027-10-20/
LOCATION:Monarcas Authentic Mexican Restaurant\, 4125 Cleveland Ave\, Fort Myers\, 33901\, United States
END:VEVENT
BEGIN:VEVENT
DTSTART;TZID=UTC:20271027T113000
DTEND;TZID=UTC:20271027T113000
DTSTAMP:20260422T222831
CREATED:20250110T215436Z
LAST-MODIFIED:20260311T004626Z
UID:3091-1824636600-1824636600@hispanicchamberflorida.org
SUMMARY:Naples Business Almuerzo de Poder "Power Lunch"
DESCRIPTION:[vc_row][vc_column]\n[/vc_column][/vc_row]
URL:https://hispanicchamberflorida.org/event/naples-business-almuerzo-de-poder-power-lunch/2027-10-27/
LOCATION:Legends Sports Bar and Grill\, 8955 Tamiami Trail N\, Naples\, FL\, 34108\, United States
ORGANIZER;CN="SWFL Hispanic Chamber of Commerce":MAILTO:hispanicchamberflorida@gmail.com
END:VEVENT
BEGIN:VEVENT
DTSTART;TZID=UTC:20271117T113000
DTEND;TZID=UTC:20271117T113000
DTSTAMP:20260422T222831
CREATED:20250110T213935Z
LAST-MODIFIED:20260310T230054Z
UID:3159-1826451000-1826451000@hispanicchamberflorida.org
SUMMARY:Fort Myers Business Almuerzo de Poder "Power Lunch"
DESCRIPTION:[vc_row][vc_column]\n[/vc_column][/vc_row]
URL:https://hispanicchamberflorida.org/event/fort-myers-business-lunch-and-learn-2025-06-18/2027-11-17/
LOCATION:Monarcas Authentic Mexican Restaurant\, 4125 Cleveland Ave\, Fort Myers\, 33901\, United States
END:VEVENT
BEGIN:VEVENT
DTSTART;TZID=UTC:20271124T113000
DTEND;TZID=UTC:20271124T113000
DTSTAMP:20260422T222831
CREATED:20250110T215436Z
LAST-MODIFIED:20260311T004626Z
UID:3092-1827055800-1827055800@hispanicchamberflorida.org
SUMMARY:Naples Business Almuerzo de Poder "Power Lunch"
DESCRIPTION:[vc_row][vc_column]\n[/vc_column][/vc_row]
URL:https://hispanicchamberflorida.org/event/naples-business-almuerzo-de-poder-power-lunch/2027-11-24/
LOCATION:Legends Sports Bar and Grill\, 8955 Tamiami Trail N\, Naples\, FL\, 34108\, United States
ORGANIZER;CN="SWFL Hispanic Chamber of Commerce":MAILTO:hispanicchamberflorida@gmail.com
END:VEVENT
BEGIN:VEVENT
DTSTART;TZID=UTC:20271215T113000
DTEND;TZID=UTC:20271215T113000
DTSTAMP:20260422T222831
CREATED:20250110T213935Z
LAST-MODIFIED:20260310T230055Z
UID:3160-1828870200-1828870200@hispanicchamberflorida.org
SUMMARY:Fort Myers Business Almuerzo de Poder "Power Lunch"
DESCRIPTION:[vc_row][vc_column]\n[/vc_column][/vc_row]
URL:https://hispanicchamberflorida.org/event/fort-myers-business-lunch-and-learn-2025-06-18/2027-12-15/
LOCATION:Monarcas Authentic Mexican Restaurant\, 4125 Cleveland Ave\, Fort Myers\, 33901\, United States
END:VEVENT
BEGIN:VEVENT
DTSTART;TZID=UTC:20271222T113000
DTEND;TZID=UTC:20271222T113000
DTSTAMP:20260422T222831
CREATED:20250110T215436Z
LAST-MODIFIED:20260311T004627Z
UID:3093-1829475000-1829475000@hispanicchamberflorida.org
SUMMARY:Naples Business Almuerzo de Poder "Power Lunch"
DESCRIPTION:[vc_row][vc_column]\n[/vc_column][/vc_row]
URL:https://hispanicchamberflorida.org/event/naples-business-almuerzo-de-poder-power-lunch/2027-12-22/
LOCATION:Legends Sports Bar and Grill\, 8955 Tamiami Trail N\, Naples\, FL\, 34108\, United States
ORGANIZER;CN="SWFL Hispanic Chamber of Commerce":MAILTO:hispanicchamberflorida@gmail.com
END:VEVENT
BEGIN:VEVENT
DTSTART;TZID=UTC:20280119T113000
DTEND;TZID=UTC:20280119T113000
DTSTAMP:20260422T222831
CREATED:20250110T213935Z
LAST-MODIFIED:20260310T230055Z
UID:3161-1831894200-1831894200@hispanicchamberflorida.org
SUMMARY:Fort Myers Business Almuerzo de Poder "Power Lunch"
DESCRIPTION:[vc_row][vc_column]\n[/vc_column][/vc_row]
URL:https://hispanicchamberflorida.org/event/fort-myers-business-lunch-and-learn-2025-06-18/2028-01-19/
LOCATION:Monarcas Authentic Mexican Restaurant\, 4125 Cleveland Ave\, Fort Myers\, 33901\, United States
END:VEVENT
BEGIN:VEVENT
DTSTART;TZID=UTC:20280126T113000
DTEND;TZID=UTC:20280126T113000
DTSTAMP:20260422T222831
CREATED:20250110T215436Z
LAST-MODIFIED:20260311T004627Z
UID:3094-1832499000-1832499000@hispanicchamberflorida.org
SUMMARY:Naples Business Almuerzo de Poder "Power Lunch"
DESCRIPTION:[vc_row][vc_column]\n[/vc_column][/vc_row]
URL:https://hispanicchamberflorida.org/event/naples-business-almuerzo-de-poder-power-lunch/2028-01-26/
LOCATION:Legends Sports Bar and Grill\, 8955 Tamiami Trail N\, Naples\, FL\, 34108\, United States
ORGANIZER;CN="SWFL Hispanic Chamber of Commerce":MAILTO:hispanicchamberflorida@gmail.com
END:VEVENT
BEGIN:VEVENT
DTSTART;TZID=UTC:20280216T113000
DTEND;TZID=UTC:20280216T113000
DTSTAMP:20260422T222831
CREATED:20250110T213935Z
LAST-MODIFIED:20260310T230055Z
UID:3162-1834313400-1834313400@hispanicchamberflorida.org
SUMMARY:Fort Myers Business Almuerzo de Poder "Power Lunch"
DESCRIPTION:[vc_row][vc_column]\n[/vc_column][/vc_row]
URL:https://hispanicchamberflorida.org/event/fort-myers-business-lunch-and-learn-2025-06-18/2028-02-16/
LOCATION:Monarcas Authentic Mexican Restaurant\, 4125 Cleveland Ave\, Fort Myers\, 33901\, United States
END:VEVENT
BEGIN:VEVENT
DTSTART;TZID=UTC:20280223T113000
DTEND;TZID=UTC:20280223T113000
DTSTAMP:20260422T222831
CREATED:20250110T215436Z
LAST-MODIFIED:20260311T004627Z
UID:3137-1834918200-1834918200@hispanicchamberflorida.org
SUMMARY:Naples Business Almuerzo de Poder "Power Lunch"
DESCRIPTION:[vc_row][vc_column]\n[/vc_column][/vc_row]
URL:https://hispanicchamberflorida.org/event/naples-business-almuerzo-de-poder-power-lunch/2028-02-23/
LOCATION:Legends Sports Bar and Grill\, 8955 Tamiami Trail N\, Naples\, FL\, 34108\, United States
ORGANIZER;CN="SWFL Hispanic Chamber of Commerce":MAILTO:hispanicchamberflorida@gmail.com
END:VEVENT
BEGIN:VEVENT
DTSTART;TZID=UTC:20280315T113000
DTEND;TZID=UTC:20280315T113000
DTSTAMP:20260422T222831
CREATED:20250110T213935Z
LAST-MODIFIED:20250110T213935Z
UID:3248-1836732600-1836732600@hispanicchamberflorida.org
SUMMARY:Fort Myers Business Almuerzo de Poder "Power Lunch"
DESCRIPTION:[vc_row][vc_column]\n[/vc_column][/vc_row]
URL:https://hispanicchamberflorida.org/event/fort-myers-business-lunch-and-learn-2025-06-18/2028-03-15/
LOCATION:Monarcas Authentic Mexican Restaurant\, 4125 Cleveland Ave\, Fort Myers\, 33901\, United States
END:VEVENT
BEGIN:VEVENT
DTSTART;TZID=UTC:20280322T113000
DTEND;TZID=UTC:20280322T113000
DTSTAMP:20260422T222831
CREATED:20250110T215436Z
LAST-MODIFIED:20250110T215436Z
UID:3250-1837337400-1837337400@hispanicchamberflorida.org
SUMMARY:Naples Business Almuerzo de Poder "Power Lunch"
DESCRIPTION:[vc_row][vc_column]\n[/vc_column][/vc_row]
URL:https://hispanicchamberflorida.org/event/naples-business-almuerzo-de-poder-power-lunch/2028-03-22/
LOCATION:Legends Sports Bar and Grill\, 8955 Tamiami Trail N\, Naples\, FL\, 34108\, United States
ORGANIZER;CN="SWFL Hispanic Chamber of Commerce":MAILTO:hispanicchamberflorida@gmail.com
END:VEVENT
BEGIN:VEVENT
DTSTART;TZID=UTC:20280419T113000
DTEND;TZID=UTC:20280419T113000
DTSTAMP:20260422T222831
CREATED:20250110T213935Z
LAST-MODIFIED:20250110T213935Z
UID:3254-1839756600-1839756600@hispanicchamberflorida.org
SUMMARY:Fort Myers Business Almuerzo de Poder "Power Lunch"
DESCRIPTION:[vc_row][vc_column]\n[/vc_column][/vc_row]
URL:https://hispanicchamberflorida.org/event/fort-myers-business-lunch-and-learn-2025-06-18/2028-04-19/
LOCATION:Monarcas Authentic Mexican Restaurant\, 4125 Cleveland Ave\, Fort Myers\, 33901\, United States
END:VEVENT
END:VCALENDAR