BEGIN:VCALENDAR
VERSION:2.0
PRODID:-//Southwest Florida Hispanic Chamber Of Commerce - ECPv6.15.14//NONSGML v1.0//EN
CALSCALE:GREGORIAN
METHOD:PUBLISH
X-WR-CALNAME:Southwest Florida Hispanic Chamber Of Commerce
X-ORIGINAL-URL:https://hispanicchamberflorida.org
X-WR-CALDESC:Events for Southwest Florida Hispanic Chamber Of Commerce
REFRESH-INTERVAL;VALUE=DURATION:PT1H
X-Robots-Tag:noindex
X-PUBLISHED-TTL:PT1H
BEGIN:VTIMEZONE
TZID:UTC
BEGIN:STANDARD
TZOFFSETFROM:+0000
TZOFFSETTO:+0000
TZNAME:UTC
DTSTART:20220101T000000
END:STANDARD
END:VTIMEZONE
BEGIN:VEVENT
DTSTART;TZID=UTC:20231202T180000
DTEND;TZID=UTC:20231202T220000
DTSTAMP:20260422T220607
CREATED:20231129T065417Z
LAST-MODIFIED:20231129T070823Z
UID:2582-1701540000-1701554400@hispanicchamberflorida.org
SUMMARY:Annual 2023 Member Appreciation Gala
DESCRIPTION:[vc_row css=”.vc_custom_1701241393369{padding-top: 50px !important;padding-bottom: 30px !important;background-position: center !important;background-repeat: no-repeat !important;background-size: cover !important;}”][vc_column width=”1/4″][/vc_column][vc_column width=”1/2″][vc_images_carousel images=”2572\,2573\,2574\,2575\,2576\,2577\,2578\,2579″ img_size=”full” autoplay=”yes” hide_pagination_control=”yes”][vc_row_inner][vc_column_inner width=”1/2″][vc_btn title=”Annual Member Appreciation Gala” style=”custom” custom_background=”#085b99″ custom_text=”#ffffff” shape=”square” size=”lg” align=”center” button_block=”true” css=”.vc_custom_1701241248712{margin-bottom: 0px !important;padding-bottom: 15px !important;}” link=”url:%2Fannual-member-appreciation-gala”][/vc_column_inner][vc_column_inner width=”1/2″][vc_btn title=”Purchase Ticket” style=”custom” custom_background=”#282828″ custom_text=”#e4c323″ shape=”square” size=”lg” align=”center” button_block=”true” css=”.vc_custom_1701241557436{margin-bottom: 0px !important;padding-bottom: 15px !important;}” link=”url:https%3A%2F%2Fwww.eventbrite.com%2Fe%2Fencantada-noche-de-invierno-enchanting-winter-evening-holiday-gala-tickets-736186312077%3Faff%3Debdsshcopyurl%26utm-source%3Dcp%26utm-term%3Dlisting%26utm-campaign%3Dsocial%26utm-medium%3Ddiscovery%26utm-content%3Dattendeeshare|target:_blank”][/vc_column_inner][/vc_row_inner][/vc_column][vc_column width=”1/4″][/vc_column][/vc_row]
URL:https://hispanicchamberflorida.org/event/annual-2023-member-appreciation-gala/
LOCATION:Florida Gulf Coast University
ORGANIZER;CN="SWFL Hispanic Chamber of Commerce":MAILTO:hispanicchamberflorida@gmail.com
END:VEVENT
BEGIN:VEVENT
DTSTART;TZID=UTC:20230419T113000
DTEND;TZID=UTC:20230419T130000
DTSTAMP:20260422T220607
CREATED:20230419T113006Z
LAST-MODIFIED:20230328T170218Z
UID:1604-1681903800-1681909200@hispanicchamberflorida.org
SUMMARY:Fort Myers Business Luncheon
DESCRIPTION:
URL:https://hispanicchamberflorida.org/event/fort-myers-business-luncheon/2023-04-19/
LOCATION:Cilantro Mex-Ven\, 16960 S. Tamiami Trail\, Fort Myers\, FL\, 33908\, United States
ORGANIZER;CN="Hispanic Chamber":MAILTO:hispanicchamberflorida@gmail.com
GEO:26.601381400739;-81.870042902033
X-APPLE-STRUCTURED-LOCATION;VALUE=URI;X-ADDRESS=Cilantro Mex-Ven 16960 S. Tamiami Trail Fort Myers FL 33908 United States;X-APPLE-RADIUS=500;X-TITLE=16960 S. Tamiami Trail:geo:-81.870042902033,26.601381400739
END:VEVENT
BEGIN:VEVENT
DTSTART;TZID=UTC:20230405T113000
DTEND;TZID=UTC:20230405T130000
DTSTAMP:20260422T220607
CREATED:20210311T164246Z
LAST-MODIFIED:20230330T212501Z
UID:621-1680694200-1680699600@hispanicchamberflorida.org
SUMMARY:Naples Business Lunch
DESCRIPTION:Business Luncheon meeting 1st Wednesday of every month \nCost:\n$25 for Members\n$35 for Prospective Members
URL:https://hispanicchamberflorida.org/event/business-lunch/2023-04-05/
LOCATION:Senior Tequillas\, 13040 Livingston Rd\, Naples\, FL\, 34105\, United States
END:VEVENT
END:VCALENDAR