BEGIN:VCALENDAR
VERSION:2.0
PRODID:-//Southwest Florida Hispanic Chamber Of Commerce - ECPv6.15.14//NONSGML v1.0//EN
CALSCALE:GREGORIAN
METHOD:PUBLISH
X-WR-CALNAME:Southwest Florida Hispanic Chamber Of Commerce
X-ORIGINAL-URL:https://hispanicchamberflorida.org
X-WR-CALDESC:Events for Southwest Florida Hispanic Chamber Of Commerce
REFRESH-INTERVAL;VALUE=DURATION:PT1H
X-Robots-Tag:noindex
X-PUBLISHED-TTL:PT1H
BEGIN:VTIMEZONE
TZID:UTC
BEGIN:STANDARD
TZOFFSETFROM:+0000
TZOFFSETTO:+0000
TZNAME:UTC
DTSTART:20270101T000000
END:STANDARD
END:VTIMEZONE
BEGIN:VEVENT
DTSTART;TZID=UTC:20280322T113000
DTEND;TZID=UTC:20280322T113000
DTSTAMP:20260422T222914
CREATED:20250110T215436Z
LAST-MODIFIED:20250110T215436Z
UID:3250-1837337400-1837337400@hispanicchamberflorida.org
SUMMARY:Naples Business Almuerzo de Poder "Power Lunch"
DESCRIPTION:[vc_row][vc_column]\n[/vc_column][/vc_row]
URL:https://hispanicchamberflorida.org/event/naples-business-almuerzo-de-poder-power-lunch/2028-03-22/
LOCATION:Legends Sports Bar and Grill\, 8955 Tamiami Trail N\, Naples\, FL\, 34108\, United States
ORGANIZER;CN="SWFL Hispanic Chamber of Commerce":MAILTO:hispanicchamberflorida@gmail.com
END:VEVENT
BEGIN:VEVENT
DTSTART;TZID=UTC:20280419T113000
DTEND;TZID=UTC:20280419T113000
DTSTAMP:20260422T222914
CREATED:20250110T213935Z
LAST-MODIFIED:20250110T213935Z
UID:3254-1839756600-1839756600@hispanicchamberflorida.org
SUMMARY:Fort Myers Business Almuerzo de Poder "Power Lunch"
DESCRIPTION:[vc_row][vc_column]\n[/vc_column][/vc_row]
URL:https://hispanicchamberflorida.org/event/fort-myers-business-lunch-and-learn-2025-06-18/2028-04-19/
LOCATION:Monarcas Authentic Mexican Restaurant\, 4125 Cleveland Ave\, Fort Myers\, 33901\, United States
END:VEVENT
END:VCALENDAR