BEGIN:VCALENDAR
VERSION:2.0
PRODID:-//Southwest Florida Hispanic Chamber Of Commerce - ECPv6.15.14//NONSGML v1.0//EN
CALSCALE:GREGORIAN
METHOD:PUBLISH
X-WR-CALNAME:Southwest Florida Hispanic Chamber Of Commerce
X-ORIGINAL-URL:https://hispanicchamberflorida.org
X-WR-CALDESC:Events for Southwest Florida Hispanic Chamber Of Commerce
REFRESH-INTERVAL;VALUE=DURATION:PT1H
X-Robots-Tag:noindex
X-PUBLISHED-TTL:PT1H
BEGIN:VTIMEZONE
TZID:UTC
BEGIN:STANDARD
TZOFFSETFROM:+0000
TZOFFSETTO:+0000
TZNAME:UTC
DTSTART:20240101T000000
END:STANDARD
END:VTIMEZONE
BEGIN:VEVENT
DTSTART;TZID=UTC:20250131T110000
DTEND;TZID=UTC:20250131T140000
DTSTAMP:20260422T125952
CREATED:20250127T133623Z
LAST-MODIFIED:20250127T133623Z
UID:2713-1738321200-1738332000@hispanicchamberflorida.org
SUMMARY:New Member Grand Opening/ Ribbon Cutting for Allied Marketing Fri\, Jan 31
DESCRIPTION:Please join us to celebrate the Grand Opening / Ribbon Cutting for our new member Allied Marketing at their new 321 Airport Road N. Naples location on Friday\, January 31st from 11-2PM. Members and guests may enjoy delicious Hors d’oeuvers\, champagne and mimosa toast\, and live music provided by professional violinist. See below for schedule of events and details.
URL:https://hispanicchamberflorida.org/event/new-member-grand-opening-ribbon-cutting-for-allied-marketing-fri-jan-31/
LOCATION:FL
ORGANIZER;CN="SWFL Hispanic Chamber of Commerce":MAILTO:hispanicchamberflorida@gmail.com
END:VEVENT
END:VCALENDAR