BEGIN:VCALENDAR
VERSION:2.0
PRODID:-//Southwest Florida Hispanic Chamber Of Commerce - ECPv6.15.14//NONSGML v1.0//EN
CALSCALE:GREGORIAN
METHOD:PUBLISH
X-ORIGINAL-URL:https://hispanicchamberflorida.org
X-WR-CALDESC:Events for Southwest Florida Hispanic Chamber Of Commerce
REFRESH-INTERVAL;VALUE=DURATION:PT1H
X-Robots-Tag:noindex
X-PUBLISHED-TTL:PT1H
BEGIN:VTIMEZONE
TZID:UTC
BEGIN:STANDARD
TZOFFSETFROM:+0000
TZOFFSETTO:+0000
TZNAME:UTC
DTSTART:20240101T000000
END:STANDARD
END:VTIMEZONE
BEGIN:VEVENT
DTSTART;TZID=UTC:20250326T163000
DTEND;TZID=UTC:20250326T173000
DTSTAMP:20260421T184515
CREATED:20250325T005227Z
LAST-MODIFIED:20250325T005227Z
UID:2800-1743006600-1743010200@hispanicchamberflorida.org
SUMMARY:Florida Blue Sanitas Medical Center Ribbon Cutting
DESCRIPTION:
URL:https://hispanicchamberflorida.org/event/florida-blue-sanitas-medical-center-ribbon-cutting/
LOCATION:7091 College Pkwy Ste 14 Cape Coral\, FL 33901\, 7091 College Pkwy\, ste 14\, Fort Myers\, FL\, 33901\, United States
END:VEVENT
END:VCALENDAR