BEGIN:VCALENDAR
VERSION:2.0
PRODID:-//Southwest Florida Hispanic Chamber Of Commerce - ECPv6.15.14//NONSGML v1.0//EN
CALSCALE:GREGORIAN
METHOD:PUBLISH
X-WR-CALNAME:Southwest Florida Hispanic Chamber Of Commerce
X-ORIGINAL-URL:https://hispanicchamberflorida.org
X-WR-CALDESC:Events for Southwest Florida Hispanic Chamber Of Commerce
REFRESH-INTERVAL;VALUE=DURATION:PT1H
X-Robots-Tag:noindex
X-PUBLISHED-TTL:PT1H
BEGIN:VTIMEZONE
TZID:UTC
BEGIN:STANDARD
TZOFFSETFROM:+0000
TZOFFSETTO:+0000
TZNAME:UTC
DTSTART:20240101T000000
END:STANDARD
END:VTIMEZONE
BEGIN:VEVENT
DTSTART;TZID=UTC:20250409T173000
DTEND;TZID=UTC:20250409T193000
DTSTAMP:20260421T164406
CREATED:20250311T224557Z
LAST-MODIFIED:20250311T224557Z
UID:2780-1744219800-1744227000@hispanicchamberflorida.org
SUMMARY:Cocktails For A Cause
DESCRIPTION:
URL:https://hispanicchamberflorida.org/event/cocktails-for-a-cause/
LOCATION:Brunos of Brooklyn\, 2149 First Street\, Fort Myers\, FL\, United States
END:VEVENT
END:VCALENDAR